BEGIN:VCALENDAR
VERSION:2.0
PRODID:-//wp-events-plugin.com//7.2.3.1//EN
BEGIN:VEVENT
UID:0-59@techtransfer.ce.ufl.edu
DTSTART;TZID=America/New_York:20260419T000000
DTEND;TZID=America/New_York:20260421T000000
DTSTAMP:20260226T191232Z
URL:https://techtransfer.ce.ufl.edu/events/life-savers-conference/
SUMMARY:Life Savers Conference
DESCRIPTION:\n\nThe 2026 Lifesavers Conference on Roadway Safety — the na
 tion’s largest gathering of roadway safety professionals — will take p
 lace April 19-21\, 2026\, at the Baltimore Convention Center in Baltimore\
 , Md. This year’s conference will feature 80 workshops and more than 200
  speakers spanning 10 different tracks\, including child passenger safety\
 , impaired and distracted driving\, pedestrian and bicycle safety\, occupa
 nt protection\, and evolving vehicle technologies. Whether you're a season
 ed practitioner or new to the field\, the Lifesavers Conference offers unm
 atched professional development\, networking\, and collaboration opportuni
 ties for everyone committed to making America’s roads safer. CLICK HERE 
 TO REGISTER. 
ATTACH;FMTTYPE=image/jpeg:https://www.eng.ufl.edu/techtransfer/wp-content/
 uploads/sites/251/2026/02/ls26-logo-web-bg-300x256-1.jpg
CATEGORIES:Bicycle Safety Event,CPS Event
LOCATION:Baltimore Convention Center\, Baltimore \, Maryland\, 
X-APPLE-STRUCTURED-LOCATION;VALUE=URI;X-ADDRESS=Baltimore \, Maryland\, ;X-
 APPLE-RADIUS=100;X-TITLE=Baltimore Convention Center:geo:0,0
END:VEVENT
BEGIN:VTIMEZONE
TZID:America/New_York
X-LIC-LOCATION:America/New_York
BEGIN:DAYLIGHT
DTSTART:20260308T030000
TZOFFSETFROM:-0500
TZOFFSETTO:-0400
TZNAME:EDT
END:DAYLIGHT
END:VTIMEZONE
END:VCALENDAR